BEGIN:VCALENDAR
VERSION:2.0
PRODID:-//eventon.com NONSGML v1.0//EN
CALSCALE:GREGORIAN
METHOD:PUBLISH
BEGIN:VEVENT
UID:69ea23507ff02
DTSTAMP:20260423T134904Z
DTSTART:20200315T110000Z
DTEND:20200315T235000Z
LOCATION:
SUMMARY:Start der Hauptsaison
DESCRIPTION:Start der Hauptsaison\nhttps://www.koidls-prater.at/events/star
 t-der-hauptsaison/
URL:https://www.koidls-prater.at/events/start-der-hauptsaison/
END:VEVENT
END:VCALENDAR