BEGIN:VCALENDAR
VERSION:2.0
PRODID:-//eventon.com NONSGML v1.0//EN
CALSCALE:GREGORIAN
METHOD:PUBLISH
BEGIN:VEVENT
UID:69ea0a9786af8
DTSTAMP:20260423T120335Z
DTSTART:20200401T000000Z
DTEND:20200401T235000Z
LOCATION:
SUMMARY:Der Wiener Prater ist derzeit geschlossen
DESCRIPTION:Aufgrund der aktuellen Maßnahmen sind alle Betriebe des Wiener
  Praters derzeit geschlossen. Wir freuen uns schon darauf\,  Sie bald wiede
 r bei uns begrüßen zu können!\nhttps://www.koidls-prater.at/events/derze
 it-zum-schutz-der-bevoelkerung-geschlossen/
URL:https://www.koidls-prater.at/events/derzeit-zum-schutz-der-bevoelkerung-geschlossen/
END:VEVENT
END:VCALENDAR