BEGIN:VCALENDAR
VERSION:2.0
PRODID:-//eventon.com NONSGML v1.0//EN
CALSCALE:GREGORIAN
METHOD:PUBLISH
BEGIN:VEVENT
UID:69e9dcd5eebe7
DTSTAMP:20260423T084821Z
DTSTART:20200529
DTEND:20200530
LOCATION:
SUMMARY:Prater öffnet wieder
DESCRIPTION:Der Wiener Prater öffnet am 29. Mai 2020 wieder! Zu den Sicher
 heitsvorkehrungen im Wiener Prater zählen Desinfizieren\,  Abstandsmarkier
 ungen und eine Sitzplatzzuteilung. Wir freuen uns auf euch!\nhttps://www.ko
 idls-prater.at/events/prater-corona/
URL:https://www.koidls-prater.at/events/prater-corona/
END:VEVENT
END:VCALENDAR